BEGIN:VCALENDAR
VERSION:2.0
PRODID:-//Jugend Berufs Agentur Burgenlandkreis - ECPv6.15.20//NONSGML v1.0//EN
CALSCALE:GREGORIAN
METHOD:PUBLISH
X-WR-CALNAME:Jugend Berufs Agentur Burgenlandkreis
X-ORIGINAL-URL:https://deinezukunftimblk.de
X-WR-CALDESC:Veranstaltungen für Jugend Berufs Agentur Burgenlandkreis
REFRESH-INTERVAL;VALUE=DURATION:PT1H
X-Robots-Tag:noindex
X-PUBLISHED-TTL:PT1H
BEGIN:VTIMEZONE
TZID:Europe/Berlin
BEGIN:DAYLIGHT
TZOFFSETFROM:+0100
TZOFFSETTO:+0200
TZNAME:CEST
DTSTART:20250330T010000
END:DAYLIGHT
BEGIN:STANDARD
TZOFFSETFROM:+0200
TZOFFSETTO:+0100
TZNAME:CET
DTSTART:20251026T010000
END:STANDARD
BEGIN:DAYLIGHT
TZOFFSETFROM:+0100
TZOFFSETTO:+0200
TZNAME:CEST
DTSTART:20260329T010000
END:DAYLIGHT
BEGIN:STANDARD
TZOFFSETFROM:+0200
TZOFFSETTO:+0100
TZNAME:CET
DTSTART:20261025T010000
END:STANDARD
BEGIN:DAYLIGHT
TZOFFSETFROM:+0100
TZOFFSETTO:+0200
TZNAME:CEST
DTSTART:20270328T010000
END:DAYLIGHT
BEGIN:STANDARD
TZOFFSETFROM:+0200
TZOFFSETTO:+0100
TZNAME:CET
DTSTART:20271031T010000
END:STANDARD
END:VTIMEZONE
BEGIN:VEVENT
DTSTART;TZID=Europe/Berlin:20260611T080000
DTEND;TZID=Europe/Berlin:20260611T140000
DTSTAMP:20260420T060417
CREATED:20240219T095308Z
LAST-MODIFIED:20260121T111322Z
UID:54962-1781164800-1781186400@deinezukunftimblk.de
SUMMARY:3. Aktionstag „Handwerk zum Anfassen“ Naumburg am 11. Juni 2026
DESCRIPTION:Der dritte Aktionstag „Handwerk zum Anfassen“ findet am Donnerstag\, 11. Juni von 08.00 Uhr bis 14.00 Uhr auf dem Marktplatz in Naumburg statt. Hier können sich interessierte Personen und Handwerksbetriebe aus und um Naumburg (Saale) kennenlernen.  Veranstalter sind die Stadt Naumburg mit der Wirtschaftsförderung\, die Handwerkskammer Halle\, das Naumburger Tageblatt und die Strukturentwicklungsgesellschaft Burgenlandkreises mbH.  \n\n\n\nDer Aktionstag bietet allen Interessierten eine tolle Gelegenheit\, um praktische Einblicke in die Welt des Handwerks zu erhalten. Dort können Sie verschiedene Handwerksbetriebe kennenlernen und sogar selbst mitmachen\, indem sie hämmern\, malern oder hobeln. Der Eintritt ist kostenfrei.Was erwartet Sie? \n\n\n\n\nOffene Werkstätten mitten in der Innenstadt\n\n\n\nPraktische Einblicke in handwerkliche Berufe\n\n\n\nDirekter Austausch mit regionalen Handwerksbetrieben\n\n\n\n\nFür wen?Jugendliche in der Berufsorientierung\, Eltern und Interessierte\, Jobsuchende.Hier können sich die Schulen anmelden.Hier können sich Unternehmen bis zum 31.03.2026 anmelden\, die einen Ausstellungsstand möchten. \n\n\n\n\n\nIm Burgenlandkreis finden 2026 mehrere Veranstaltungen rund um Berufsorientierung\, Ausbildung und Karriere statt. Besucherinnen und Besucher haben die Möglichkeit\, regionale Unternehmen kennenzulernen\, Berufe praktisch zu erleben und direkt mit Ausbilderinnen\, Ausbildern und Fachkräften ins Gespräch zu kommen. Weitere Informationen finden Sie unter Veranstaltungen.
URL:https://deinezukunftimblk.de/veranstaltung/3-aktionstag-handwerk-zum-anfassen-naumburg-am-11-juni-2026/
LOCATION:Marktplatz Naumburg\, Markt\, Naumburg\, Sachsen-Anhalt\, 06618\, Deutschland
END:VEVENT
BEGIN:VEVENT
DTSTART;TZID=Europe/Berlin:20260611T130000
DTEND;TZID=Europe/Berlin:20260611T170000
DTSTAMP:20260420T060417
CREATED:20220622T082857Z
LAST-MODIFIED:20251219T100814Z
UID:47000-1781182800-1781197200@deinezukunftimblk.de
SUMMARY:Karrierecenter der Bundeswehr
DESCRIPTION:Karrierecenter der Bundeswehr Berlin / Karriereberatungsbüro Halle (Saale) / Beratung in der Agentur für Arbeit Weißenfels \n\n	\n\n\n\n\n			\n\n	\n\n\n\n\n\nBeratungstermine sind nur nach vorheriger Absprache mit der Karriereberatung möglich. Internet: www.bundeswehrkarriere.deKostenlose Hotline: 0800 / 980 08 80E-Mail: KarrBBHalle@bundeswehr.org
URL:https://deinezukunftimblk.de/veranstaltung/karrierecenter-der-bundeswehr-13/
LOCATION:Agentur für Arbeit Weißenfels\, Promenade 19\, Weissenfels\, 06667\, Deutschland
ATTACH;FMTTYPE=image/png:https://deinezukunftimblk.de/wp-content/uploads/2022/06/Logo-Bundeswehr_Karrierecenter-BW.png
END:VEVENT
BEGIN:VEVENT
DTSTART;TZID=Europe/Berlin:20260625T130000
DTEND;TZID=Europe/Berlin:20260625T170000
DTSTAMP:20260420T060417
CREATED:20220622T085039Z
LAST-MODIFIED:20251219T100329Z
UID:1703-1782392400-1782406800@deinezukunftimblk.de
SUMMARY:Karrierecenter der Bundeswehr
DESCRIPTION:Karrierecenter der Bundeswehr Berlin / Karriereberatungsbüro Halle (Saale) / Beratung in der Agentur für Arbeit Naumburg \n\n	\n\n\n\n\n			\n\n	\n\n\n\n\n\nBeratungstermine sind nur nach vorheriger Absprache mit der Karriereberatung möglich. Internet: www.bundeswehrkarriere.deKostenlose Hotline: 0800 / 980 08 80E-Mail: KarrBBHalle@bundeswehr.org
URL:https://deinezukunftimblk.de/veranstaltung/karrierecenter-der-bundeswehr-8/
LOCATION:Agentur für Arbeit Naumburg\, Bahnhofstraße 48\, Naumburg\, 06618\, Deutschland
ATTACH;FMTTYPE=image/png:https://deinezukunftimblk.de/wp-content/uploads/2022/06/Logo-Bundeswehr_Karrierecenter-BW.png
END:VEVENT
BEGIN:VEVENT
DTSTART;TZID=Europe/Berlin:20260910T090000
DTEND;TZID=Europe/Berlin:20260910T140000
DTSTAMP:20260420T060417
CREATED:20230731T130929Z
LAST-MODIFIED:20260226T083000Z
UID:54970-1789030800-1789048800@deinezukunftimblk.de
SUMMARY:Vierte Berufs- und Ausbildungsmesse Weißenfels am 10. September 2026
DESCRIPTION:Berufs- und Ausbildungsmesse Weißenfels – Dabei sein und spannende Unternehmen aus Weißenfels und Umgebung kennenlernen! – Die vierte Weißenfelser Berufs- und Ausbildungsmesse findet am Donnerstag\, 10. September 2026 in der Zeit von 09.00 Uhr bis 14.00 Uhr im Kulturhaus Weißenfels statt. Unternehmen aus Weißenfels und Umgebung bieten Schülerinnen und Schülern\, Berufseinsteigerinnen und Berufseinsteigern spannende Möglichkeiten\, um die vielfältige Unternehmenslandschaft in Weißenfels und Umgebung kennenzulernen und unterschiedliche Berufe hautnah und praktisch zu erleben.  \n\n\n\nInhalte: \n\n\n\n\nAusbildungs- und Praktikumsangebote regionaler Unternehmen\n\n\n\nInformationen zu Karriere- und Einstiegsmöglichkeiten\n\n\n\nBesuch von Schulklassen sowie offene Messe für die Öffentlichkeit\n\n\n\n\nZielgruppe:Schülerinnen und Schüler\, Eltern\, Berufseinsteiger\, JobsuchendeHier können sich die Schulen anmelden. \n\n\n\nDie Voranmeldung für Unternehmen ist bis zum 31.05.2026 möglich. Die Platzvergabe erfolgt Mitte Juli. \n\n\n\n	\n	\n\n	\n		Kulturhaus Weißenfels\n	\n\n	\n						\n				\n\nMerseburger Str. 14\n	\n		\n		Weißenfels\,\n\n	Sachsen-Anhalt\n\n	06667\n\n	Deutschland\n\n\n\n							\n		\n					03443/ 370339\n		\n			\n	\n	\n	\n\n\n\nIm Burgenlandkreis finden 2026 mehrere Veranstaltungen rund um Berufsorientierung\, Ausbildung und Karriere statt. Besucherinnen und Besucher haben die Möglichkeit\, regionale Unternehmen kennenzulernen\, Berufe praktisch zu erleben und direkt mit Ausbilderinnen\, Ausbildern und Fachkräften ins Gespräch zu kommen. Weitere Informationen finden Sie unter Veranstaltungen.
URL:https://deinezukunftimblk.de/veranstaltung/vierte-berufs-und-ausbildungsmesse-weissenfels-am-10-september-2026/
LOCATION:Kulturhaus Weißenfels\, Merseburger Str. 14\, Weißenfels\, Sachsen-Anhalt\, 06667\, Deutschland
END:VEVENT
BEGIN:VEVENT
DTSTART;TZID=Europe/Berlin:20260924T090000
DTEND;TZID=Europe/Berlin:20260924T140000
DTSTAMP:20260420T060417
CREATED:20220815T123901Z
LAST-MODIFIED:20260226T082931Z
UID:54973-1790240400-1790258400@deinezukunftimblk.de
SUMMARY:Fünfte Naumburger Ausbildungsmesse am 24. September 2026
DESCRIPTION:Die Naumburger Berufs- und Ausbildungsmesse  findet am Donnerstag\, 24 September 2026\, von 09.00 Uhr bis 14.00 Uhr\, in der Neuen Turnhalle in Naumburg statt. Unternehmen aus Naumburg (Saale) und Umgebung bieten Schülerinnen und Schülern und Jobsuchenden spannende Möglichkeiten\, um die vielfältige Unternehmenslandschaft in Naumburg und Umgebung kennenzulernen und unterschiedliche Berufe hautnah und praktisch zu erleben.  \n\n\n\nInhalte: \n\n\n\n\nVorstellung regionaler Ausbildungsbetriebe\n\n\n\nGespräche zu Ausbildung\, Praktikum und beruflichen Perspektiven\n\n\n\nEinladung von Schulklassen\, zusätzlich offen für die Öffentlichkeit\n\n\n\n\nZielgruppe:Schülerinnen und Schüler aus Naumburg und Umgebung sowie Interessierte\, JobsuchendeHier können sich die Schulen anmelden.Die Voranmeldung für Unternehmen ist bis zum 31.05.2026 möglich. Die Platzvergabe erfolgt Mitte Juli.  \n\n\n\n\n\nIm Burgenlandkreis finden 2026 mehrere Veranstaltungen rund um Berufsorientierung\, Ausbildung und Karriere statt. Besucherinnen und Besucher haben die Möglichkeit\, regionale Unternehmen kennenzulernen\, Berufe praktisch zu erleben und direkt mit Ausbilderinnen\, Ausbildern und Fachkräften ins Gespräch zu kommen. Weitere Informationen finden Sie unter Veranstaltungen.
URL:https://deinezukunftimblk.de/veranstaltung/fuenfte-naumburger-ausbildungsmesse-myfuture-am-24-september-2026/
LOCATION:Neue Turnhalle Naumburg\, Seminarstraße 1\, Naumburg\, Sachsen-Anhalt\, 06618\, Deutschland
END:VEVENT
BEGIN:VEVENT
DTSTART;TZID=Europe/Berlin:20261008T140000
DTEND;TZID=Europe/Berlin:20261008T180000
DTSTAMP:20260420T060417
CREATED:20230731T130128Z
LAST-MODIFIED:20260226T083207Z
UID:54975-1791468000-1791482400@deinezukunftimblk.de
SUMMARY:Zweite Zeitzer Jobmesse am 08.10.2026
DESCRIPTION:Die Jobmesse Zeitz – Dabei sein und spannende Unternehmen aus Zeitz und Umgebung kennenlernen! – findet am Donnerstag\, den 08. Oktober 2026 von 14.00 – 18.00 Uhr in der Turnhalle der Berufsbildenden Schulen in Zeitz statt. Unternehmen aus Zeitz und Umgebung bieten Schülerinnen und Schülern sowie Jobsuchenden spannende Möglichkeiten\, um die vielfältige Unternehmenslandschaft in Zeitz und Umgebung kennenzulernen und unterschiedliche Berufe hautnah und praktisch zu erleben.  \n\n\n\nInhalte: \n\n\n\n\nAusbildungs- und Jobangebote regionaler Unternehmen\n\n\n\nInformationen zum Berufsstart\, zur Neuorientierung und zum Wiedereinstieg\n\n\n\nPersönliche Gespräche in entspannter Atmosphäre\n\n\n\n\nZielgruppe:Jugendliche\, Eltern\, Berufsrückkehrende und Quereinsteigerinnen und Quereinsteiger\, Jobsuchende.Die Voranmeldung für Unternehmen ist bis zum 31.05.2026 möglich. Die Platzvergabe erfolgt Mitte Juli. \n\n\n\n\n\nIm Burgenlandkreis finden 2026 mehrere Veranstaltungen rund um Berufsorientierung\, Ausbildung und Karriere statt. Besucherinnen und Besucher haben die Möglichkeit\, regionale Unternehmen kennenzulernen\, Berufe praktisch zu erleben und direkt mit Ausbilderinnen\, Ausbildern und Fachkräften ins Gespräch zu kommen. Weitere Informationen finden Sie unter Veranstaltungen.
URL:https://deinezukunftimblk.de/veranstaltung/zweite-zeitzer-jobmesse-am-08-10-2026/
LOCATION:Berufsbildende Schulen Zeitz\, Alte Werkstraße 1\, Zeitz\, Sachsen-Anhalt\, 06712\, Germany
END:VEVENT
END:VCALENDAR